BEGIN:VCALENDAR
VERSION:2.0
PRODID:-//Great Lakes Chamber Orchestra - ECPv6.15.20//NONSGML v1.0//EN
CALSCALE:GREGORIAN
METHOD:PUBLISH
X-WR-CALNAME:Great Lakes Chamber Orchestra
X-ORIGINAL-URL:https://glcorchestra.org
X-WR-CALDESC:Events for Great Lakes Chamber Orchestra
REFRESH-INTERVAL;VALUE=DURATION:PT1H
X-Robots-Tag:noindex
X-PUBLISHED-TTL:PT1H
BEGIN:VTIMEZONE
TZID:America/Detroit
BEGIN:DAYLIGHT
TZOFFSETFROM:-0500
TZOFFSETTO:-0400
TZNAME:EDT
DTSTART:20200308T070000
END:DAYLIGHT
BEGIN:STANDARD
TZOFFSETFROM:-0400
TZOFFSETTO:-0500
TZNAME:EST
DTSTART:20201101T060000
END:STANDARD
BEGIN:DAYLIGHT
TZOFFSETFROM:-0500
TZOFFSETTO:-0400
TZNAME:EDT
DTSTART:20210314T070000
END:DAYLIGHT
BEGIN:STANDARD
TZOFFSETFROM:-0400
TZOFFSETTO:-0500
TZNAME:EST
DTSTART:20211107T060000
END:STANDARD
BEGIN:DAYLIGHT
TZOFFSETFROM:-0500
TZOFFSETTO:-0400
TZNAME:EDT
DTSTART:20220313T070000
END:DAYLIGHT
BEGIN:STANDARD
TZOFFSETFROM:-0400
TZOFFSETTO:-0500
TZNAME:EST
DTSTART:20221106T060000
END:STANDARD
END:VTIMEZONE
BEGIN:VEVENT
DTSTART;TZID=America/Detroit:20210824T173000
DTEND;TZID=America/Detroit:20210824T210000
DTSTAMP:20260421T062935
CREATED:20210421T161836Z
LAST-MODIFIED:20210923T153843Z
UID:10000109-1629826200-1629838800@glcorchestra.org
SUMMARY:Crescendo - Annual Fundraiser
DESCRIPTION:For more information about Crescendo\, contact Pam Decker.\npam@glcorchestra.org
URL:https://glcorchestra.org/concert/crescendo/
LOCATION:Mackinaw Trail Winery\, 3423 US-131\, Petoskey\, MI\, 49770\, United States
ATTACH;FMTTYPE=image/png:https://glcorchestra.org/wp-content/uploads/2021/06/Invitation-Crescendo-2021.png
END:VEVENT
END:VCALENDAR