BEGIN:VCALENDAR
VERSION:2.0
PRODID:-//Great Lakes Chamber Orchestra - ECPv6.15.20//NONSGML v1.0//EN
CALSCALE:GREGORIAN
METHOD:PUBLISH
X-ORIGINAL-URL:https://glcorchestra.org
X-WR-CALDESC:Events for Great Lakes Chamber Orchestra
REFRESH-INTERVAL;VALUE=DURATION:PT1H
X-Robots-Tag:noindex
X-PUBLISHED-TTL:PT1H
BEGIN:VTIMEZONE
TZID:America/Detroit
BEGIN:DAYLIGHT
TZOFFSETFROM:-0500
TZOFFSETTO:-0400
TZNAME:EDT
DTSTART:20190310T070000
END:DAYLIGHT
BEGIN:STANDARD
TZOFFSETFROM:-0400
TZOFFSETTO:-0500
TZNAME:EST
DTSTART:20191103T060000
END:STANDARD
BEGIN:DAYLIGHT
TZOFFSETFROM:-0500
TZOFFSETTO:-0400
TZNAME:EDT
DTSTART:20200308T070000
END:DAYLIGHT
BEGIN:STANDARD
TZOFFSETFROM:-0400
TZOFFSETTO:-0500
TZNAME:EST
DTSTART:20201101T060000
END:STANDARD
BEGIN:DAYLIGHT
TZOFFSETFROM:-0500
TZOFFSETTO:-0400
TZNAME:EDT
DTSTART:20210314T070000
END:DAYLIGHT
BEGIN:STANDARD
TZOFFSETFROM:-0400
TZOFFSETTO:-0500
TZNAME:EST
DTSTART:20211107T060000
END:STANDARD
END:VTIMEZONE
BEGIN:VEVENT
DTSTART;TZID=America/Detroit:20200607T160000
DTEND;TZID=America/Detroit:20200607T180000
DTSTAMP:20260420T061038
CREATED:20190430T205311Z
LAST-MODIFIED:20200520T140645Z
UID:10000098-1591545600-1591552800@glcorchestra.org
SUMMARY:Take to the Sky (CANCELLED)
DESCRIPTION:This event has been cancelled.  \nFeaturing award-winning violin soloist\, Dmitri Berlinsky! \nBeethoven\, Symphony No. 6 in F Major\, Op. 68\, “Pastoral Symphony” or Recollections of Country Life” expresses Beethoven’s affinity for nature and his love for walks through the country outside Vienna. \nVaughan Williams’s The Lark Ascending is a gentle\, introspective work.  It is one of the supreme achievements of English landscape painting extoling the untroubled joys of nature\, the call of the lark\, and the genial folk music of earlier times. \nResphighi\, Gli Uccelli “The Birds” is a suite of pieces is based on various 18th century composers. The Birds is an attempt to depict the bird songs and fluttering wings of the Dove\, the Hen\, the Nightingale and the Cuckoo. \nEinojuhani Rautavaara\, Cantus Arcticus\, Op. 61 Probably Rautavaara’s best-known work\, Concerto for Birds and Orchestra\, incorporates tape recordings of birdsongs recorded near the Arctic Circle and on the bogs of Liminka in northern Finland. \nReserved Seating: $50\, $35\, $25\nGeneral Admission: $25\nAges 18 and under are FREE.
URL:https://glcorchestra.org/concert/take-to-the-sky/
LOCATION:Location TBD
ATTACH;FMTTYPE=image/jpeg:https://glcorchestra.org/wp-content/uploads/2019/04/Website-sliders.jpg
END:VEVENT
END:VCALENDAR