BEGIN:VCALENDAR
VERSION:2.0
PRODID:-//Great Lakes Chamber Orchestra - ECPv6.15.20//NONSGML v1.0//EN
CALSCALE:GREGORIAN
METHOD:PUBLISH
X-WR-CALNAME:Great Lakes Chamber Orchestra
X-ORIGINAL-URL:https://glcorchestra.org
X-WR-CALDESC:Events for Great Lakes Chamber Orchestra
REFRESH-INTERVAL;VALUE=DURATION:PT1H
X-Robots-Tag:noindex
X-PUBLISHED-TTL:PT1H
BEGIN:VTIMEZONE
TZID:America/Detroit
BEGIN:DAYLIGHT
TZOFFSETFROM:-0500
TZOFFSETTO:-0400
TZNAME:EDT
DTSTART:20250309T070000
END:DAYLIGHT
BEGIN:STANDARD
TZOFFSETFROM:-0400
TZOFFSETTO:-0500
TZNAME:EST
DTSTART:20251102T060000
END:STANDARD
BEGIN:DAYLIGHT
TZOFFSETFROM:-0500
TZOFFSETTO:-0400
TZNAME:EDT
DTSTART:20260308T070000
END:DAYLIGHT
BEGIN:STANDARD
TZOFFSETFROM:-0400
TZOFFSETTO:-0500
TZNAME:EST
DTSTART:20261101T060000
END:STANDARD
BEGIN:DAYLIGHT
TZOFFSETFROM:-0500
TZOFFSETTO:-0400
TZNAME:EDT
DTSTART:20270314T070000
END:DAYLIGHT
BEGIN:STANDARD
TZOFFSETFROM:-0400
TZOFFSETTO:-0500
TZNAME:EST
DTSTART:20271107T060000
END:STANDARD
END:VTIMEZONE
BEGIN:VEVENT
DTSTART;TZID=America/Detroit:20260612T190000
DTEND;TZID=America/Detroit:20260612T210000
DTSTAMP:20260420T043926
CREATED:20250425T023824Z
LAST-MODIFIED:20260316T191357Z
UID:10000141-1781290800-1781298000@glcorchestra.org
SUMMARY:Carnegie Homecoming
DESCRIPTION:Bringing Our Carnegie Moment Home!\nGLCO’s June 8th historical debut at Carnegie Hall marks a defining milestone—not just for the GLCO\, but for the entire northern Michigan community that made it possible.\nNow\, we bring that moment home so we can share the music\, the pride\, and the joy with the people who inspired and supported  us through our journey. Together\, we’ve reached one of the world’s greatest stages — and now\, we invite you to experience that same magic\, right here at home.\nThe program will feature works by Dvorak\, Daugherty\, and Milhaud under the direction of Maestro Ondras.\nAnd the highlight of the concert—Bruch’s Double Concerto in E minor\, Op. 88\, featuring Silver Medalist of the Tchaivkosky International Competition Dylana Jenson with our own Libor Ondras on viola\, with guest conductor David Lockington.\nThis is also your achievement. Let’s celebrate together!\nGLCO is committed to creating a welcoming and accessible experience for all. For accommodation requests or accessibility support\, please contact our office at 231-487-0010.\nGET TICKETS
URL:https://glcorchestra.org/concert/carnegie-homecoming/
LOCATION:John M. Hall Auditorium\, Bay View
ATTACH;FMTTYPE=image/png:https://glcorchestra.org/wp-content/uploads/2025/04/June-2026-1.png
END:VEVENT
END:VCALENDAR