BEGIN:VCALENDAR
VERSION:2.0
PRODID:-//Great Lakes Chamber Orchestra - ECPv6.15.20//NONSGML v1.0//EN
CALSCALE:GREGORIAN
METHOD:PUBLISH
X-WR-CALNAME:Great Lakes Chamber Orchestra
X-ORIGINAL-URL:https://glcorchestra.org
X-WR-CALDESC:Events for Great Lakes Chamber Orchestra
REFRESH-INTERVAL;VALUE=DURATION:PT1H
X-Robots-Tag:noindex
X-PUBLISHED-TTL:PT1H
BEGIN:VTIMEZONE
TZID:America/Detroit
BEGIN:DAYLIGHT
TZOFFSETFROM:-0500
TZOFFSETTO:-0400
TZNAME:EDT
DTSTART:20250309T070000
END:DAYLIGHT
BEGIN:STANDARD
TZOFFSETFROM:-0400
TZOFFSETTO:-0500
TZNAME:EST
DTSTART:20251102T060000
END:STANDARD
BEGIN:DAYLIGHT
TZOFFSETFROM:-0500
TZOFFSETTO:-0400
TZNAME:EDT
DTSTART:20260308T070000
END:DAYLIGHT
BEGIN:STANDARD
TZOFFSETFROM:-0400
TZOFFSETTO:-0500
TZNAME:EST
DTSTART:20261101T060000
END:STANDARD
BEGIN:DAYLIGHT
TZOFFSETFROM:-0500
TZOFFSETTO:-0400
TZNAME:EDT
DTSTART:20270314T070000
END:DAYLIGHT
BEGIN:STANDARD
TZOFFSETFROM:-0400
TZOFFSETTO:-0500
TZNAME:EST
DTSTART:20271107T060000
END:STANDARD
END:VTIMEZONE
BEGIN:VEVENT
DTSTART;TZID=America/Detroit:20260425T190000
DTEND;TZID=America/Detroit:20260425T210000
DTSTAMP:20260420T044406
CREATED:20250425T023015Z
LAST-MODIFIED:20260309T205206Z
UID:10000140-1777143600-1777150800@glcorchestra.org
SUMMARY:Violins of Hope
DESCRIPTION:The Story of a Violin That Survived the Holocaust \nViolins of Hope concert tells a powerful story of a violin recovered from a Nazi concentration camp.\nViolins of Hope is an internationally recognized project led by Israeli luthier Amnon Weinstein and his son Avshi\, dedicated to restoring violins that survived the Holocaust and bringing them back to the concert stages. Today\, these violins travel the world not as symbols of tragedy\, but as symbols of resilience\, hope\, and the enduring power of music.\nThe voice of one of these violins will come alive in our community\, featuring Auerbach’s T’filah (Prayer)\, Shostakovich-String Symphony\, Schindler’s List theme\, and Balgley’s Klezmer Concerto featuring Matheus Garcia Souza\,  Solo Violin.\nLearn more about the Violins of Hope Project: HERE\nGLCO is committed to creating a welcoming and accessible experience for all. For accommodation requests or accessibility support\, please contact our office at 231-487-0010.\nGET TICKETS
URL:https://glcorchestra.org/concert/violins-of-hope/
LOCATION:Great Lakes Center for the Arts\, 800 Bay Harbor Dr.\, Petoskey\, Michigan\, 49770
ATTACH;FMTTYPE=image/png:https://glcorchestra.org/wp-content/uploads/2025/04/Violins-of-Hope-image-1.png
END:VEVENT
BEGIN:VEVENT
DTSTART;TZID=America/Detroit:20260716T190000
DTEND;TZID=America/Detroit:20260716T210000
DTSTAMP:20260420T044406
CREATED:20250425T024255Z
LAST-MODIFIED:20260309T211318Z
UID:10000142-1784228400-1784235600@glcorchestra.org
SUMMARY:Lights. Camera. Music!
DESCRIPTION:A Red-Carpet Celebration for All \nJoin us for the grand finale of GLCO’s 25th anniversary season — an exciting orchestral celebration of the soundtracks that shaped generations.\nHear the iconic music of Hollywood’s greatest films — from James Bond and Harry Potter to Titanic\, E.T.\, Pirates of the Caribbean\, Mission: Impossible\, Cinema Paradiso\, and more — performed live by your orchestra.\nExperience the thrill of award-winning movie music in a concert that brings generations together through the power of cinematic sound.\nGLCO is committed to creating a welcoming and accessible experience for all. For accommodation requests or accessibility support\, please contact our office at 231-487-0010.\nGET TICKETS
URL:https://glcorchestra.org/concert/lights-camera-music/
LOCATION:Great Lakes Center for the Arts\, 800 Bay Harbor Dr.\, Petoskey\, Michigan\, 49770
ATTACH;FMTTYPE=image/png:https://glcorchestra.org/wp-content/uploads/2025/04/July-2026-4.png
END:VEVENT
END:VCALENDAR