BEGIN:VCALENDAR
VERSION:2.0
PRODID:-//Great Lakes Chamber Orchestra - ECPv6.15.20//NONSGML v1.0//EN
CALSCALE:GREGORIAN
METHOD:PUBLISH
X-WR-CALNAME:Great Lakes Chamber Orchestra
X-ORIGINAL-URL:https://glcorchestra.org
X-WR-CALDESC:Events for Great Lakes Chamber Orchestra
REFRESH-INTERVAL;VALUE=DURATION:PT1H
X-Robots-Tag:noindex
X-PUBLISHED-TTL:PT1H
BEGIN:VTIMEZONE
TZID:America/Detroit
BEGIN:DAYLIGHT
TZOFFSETFROM:-0500
TZOFFSETTO:-0400
TZNAME:EDT
DTSTART:20170312T070000
END:DAYLIGHT
BEGIN:STANDARD
TZOFFSETFROM:-0400
TZOFFSETTO:-0500
TZNAME:EST
DTSTART:20171105T060000
END:STANDARD
BEGIN:DAYLIGHT
TZOFFSETFROM:-0500
TZOFFSETTO:-0400
TZNAME:EDT
DTSTART:20180311T070000
END:DAYLIGHT
BEGIN:STANDARD
TZOFFSETFROM:-0400
TZOFFSETTO:-0500
TZNAME:EST
DTSTART:20181104T060000
END:STANDARD
BEGIN:DAYLIGHT
TZOFFSETFROM:-0500
TZOFFSETTO:-0400
TZNAME:EDT
DTSTART:20190310T070000
END:DAYLIGHT
BEGIN:STANDARD
TZOFFSETFROM:-0400
TZOFFSETTO:-0500
TZNAME:EST
DTSTART:20191103T060000
END:STANDARD
BEGIN:DAYLIGHT
TZOFFSETFROM:-0500
TZOFFSETTO:-0400
TZNAME:EDT
DTSTART:20200308T070000
END:DAYLIGHT
BEGIN:STANDARD
TZOFFSETFROM:-0400
TZOFFSETTO:-0500
TZNAME:EST
DTSTART:20201101T060000
END:STANDARD
BEGIN:DAYLIGHT
TZOFFSETFROM:-0500
TZOFFSETTO:-0400
TZNAME:EDT
DTSTART:20210314T070000
END:DAYLIGHT
BEGIN:STANDARD
TZOFFSETFROM:-0400
TZOFFSETTO:-0500
TZNAME:EST
DTSTART:20211107T060000
END:STANDARD
END:VTIMEZONE
BEGIN:VEVENT
DTSTART;TZID=America/Detroit:20200223T160000
DTEND;TZID=America/Detroit:20200223T170000
DTSTAMP:20260422T011434
CREATED:20190910T174808Z
LAST-MODIFIED:20200210T174645Z
UID:10000104-1582473600-1582477200@glcorchestra.org
SUMMARY:Sunday Series: Violin\, Horn\, Piano Trio
DESCRIPTION:The trio of Paul Sonner\, violin; Julie Schleif\, Horn; and Steve Larson\, piano will perform Trio\, opus 44 by Lennox Berkeley and Sonata\, opus 93 by Andrew Downes at First Presbyterian Church in Petoskey at 4:00 PM Sunday February 23.\nSunday Series provides free chamber music with small ensembles of musicians from the orchestra. The venue location rotates throughout northern Michigan  neighborhoods. Generous support for the Sunday Series is provided by Carolyn Klender.
URL:https://glcorchestra.org/concert/sunday-series-violin-horn-piano-trio/
LOCATION:First Presbyterian Church\, Petoskey\, 501 E Mitchell St\, Petoskey\, MI\, 49770
ATTACH;FMTTYPE=image/jpeg:https://glcorchestra.org/wp-content/uploads/2019/08/Sunday-Series-image-e1567021198724.jpg
END:VEVENT
BEGIN:VEVENT
DTSTART;TZID=America/Detroit:20200112T160000
DTEND;TZID=America/Detroit:20200112T170000
DTSTAMP:20260422T011434
CREATED:20190828T192025Z
LAST-MODIFIED:20191223T134433Z
UID:10000103-1578844800-1578848400@glcorchestra.org
SUMMARY:Sunday Series: The Complete Chopin Preludes and Harp Selections
DESCRIPTION:Sunday Series provides free chamber music with small ensembles of musicians from the orchestra. The venue location rotates throughout northern Michigan  neighborhoods. Generous support for the Sunday Series is provided by Carolyn Klender. \nCheryl Staats received a Master of Fine Arts degree in piano performance from the University of Minnesota\, and later invested in extensive post-graduate performance study at Indiana University and The University of Texas at Austin. She has presented solo piano recitals and collaborative vocal and instrumental recitals in Ohio\, Colorado\, Indiana\, Minnesota\, and Texas. In addition to performing\, Ms. Staats also has been active in professional music teacher associations\, serving in many executive positions\, including as President\, for music organizations in several states\, and organizing various competitions and festivals. She served as Executive Director of the Boulder Bach Festival for many years\, administering an annual budget of $100\,000+ and producing performances throughout the year which featured the great Baroque composer. \nJoan Raeburn Holland is the Associate Professor of Harp for the University of Michigan and Instructor of Harp for the Interlochen Arts Academy and Arts Camp. Joan performs as principal harp for the Midland Symphony\, Co-Principal for the Traverse Symphony Orchestra\, the Lexington Bach Festival and also\, played several years with the Great Lakes Chamber Orchestra. An avid chamber musician and soloist\, Joan participates in various chamber music series recitals and as concerto soloist.
URL:https://glcorchestra.org/concert/chopin-and-strings-trio-2019/
LOCATION:First Presbyterian Church\, Harbor Springs
ATTACH;FMTTYPE=image/jpeg:https://glcorchestra.org/wp-content/uploads/2019/08/Sunday-Series-image-e1567021198724.jpg
END:VEVENT
BEGIN:VEVENT
DTSTART;TZID=America/Detroit:20191220T190000
DTEND;TZID=America/Detroit:20191220T210000
DTSTAMP:20260422T011434
CREATED:20190430T205159Z
LAST-MODIFIED:20190612T142901Z
UID:10000097-1576868400-1576875600@glcorchestra.org
SUMMARY:Handel's Messiah
DESCRIPTION:The Great Lakes Chamber Orchestra and Chorus is proud to present our annual Messiah concert. The performance includes Parts I\, II and III of this beloved work. Handel’s Messiah\, an oratorio\, is set in three sections\, the first concerns the Prophecy and the Nativity\, the second the Passion and Resurrection and the final section\, the Resurrection of all humankind. This event will be held at The Great Lakes Center for the Arts. \nReserved Seating: $50\, $35\, $25\nAges 18 and under are FREE.
URL:https://glcorchestra.org/concert/handels-messiah-4/
LOCATION:Great Lakes Center for the Arts\, 800 Bay Harbor Dr.\, Petoskey\, Michigan\, 49770
ATTACH;FMTTYPE=image/jpeg:https://glcorchestra.org/wp-content/uploads/2018/10/concertimages2.jpg
END:VEVENT
BEGIN:VEVENT
DTSTART;TZID=America/Detroit:20191219T190000
DTEND;TZID=America/Detroit:20191219T210000
DTSTAMP:20260422T011434
CREATED:20190430T205039Z
LAST-MODIFIED:20191112T001816Z
UID:10000096-1576782000-1576789200@glcorchestra.org
SUMMARY:NEW VENUE! Handel's Messiah
DESCRIPTION:The Great Lakes Chamber Orchestra and Chorus is proud to present our annual Messiah concert.  The performance includes Parts I\, II and III of this beloved work. Handel’s Messiah\, an oratorio\, is set in three sections\, the first concerns the Prophecy and the Nativity\, the second the Passion and Resurrection and the final section\, the Resurrection of all humankind. This event will be held at GREAT LAKES CENTER FOR THE ARTS. \nReserved Seating: $50\, $35\, $25\nAges 18 and under are FREE.
URL:https://glcorchestra.org/concert/handels-messiah-3/
LOCATION:Great Lakes Center for the Arts\, 800 Bay Harbor Dr.\, Petoskey\, Michigan\, 49770
ATTACH;FMTTYPE=image/jpeg:https://glcorchestra.org/wp-content/uploads/2018/10/concertimages2.jpg
END:VEVENT
BEGIN:VEVENT
DTSTART;TZID=America/Detroit:20191103T160000
DTEND;TZID=America/Detroit:20191103T170000
DTSTAMP:20260422T011434
CREATED:20190828T185558Z
LAST-MODIFIED:20190828T194023Z
UID:10000102-1572796800-1572800400@glcorchestra.org
SUMMARY:Sunday Series: The Cummings String Quartet
DESCRIPTION:The Cummings String Quartet is a northern Michigan-based ensemble of professionals who perform with the Traverse Symphony Orchestra and the Great Lakes Chamber Orchestra.  Named after the benefactors of the Dorothy Gerber Strings Program\, the quartet also serves as teachers and artistic representatives of the Gerber program. \nSunday Series provides free chamber music with small ensembles of musicians from the orchestra. The venue location rotates throughout northern Michigan  neighborhoods. Generous support for the Sunday Series is provided by Carolyn Klender.
URL:https://glcorchestra.org/concert/the-cummings-string-quartet-2019/
LOCATION:First Presbyterian Church\, Boyne City
ATTACH;FMTTYPE=image/jpeg:https://glcorchestra.org/wp-content/uploads/2019/08/Sunday-Series-image-e1567021198724.jpg
END:VEVENT
BEGIN:VEVENT
DTSTART;TZID=America/Detroit:20191027T190000
DTEND;TZID=America/Detroit:20191027T210000
DTSTAMP:20260422T011434
CREATED:20190430T204832Z
LAST-MODIFIED:20190930T163336Z
UID:10000095-1572202800-1572210000@glcorchestra.org
SUMMARY:Angels and Demons
DESCRIPTION:Join the The Great Lakes Chamber Orchestra on Sunday\, October 27th at 7:00PM\, as they welcome the Crooked Tree Arts Center School of Ballet dancers on stage during the Angels and Demons concert\, featuring music by Schubert\, Death and the Maiden\, André Caplet’s Masque of the Red Death and Ravel\, Pavane for a Dead Infante. This performance will be at the Great Lakes Center for the Arts. Pre-Concert talk by Music Director Libor Ondras at 6:00 PM\n\n\nReserved Seating: $50\, $35\, $25\nAges 18 and under are FREE.
URL:https://glcorchestra.org/concert/angels-and-demons/
LOCATION:Great Lakes Center for the Arts\, 800 Bay Harbor Dr.\, Petoskey\, Michigan\, 49770
ATTACH;FMTTYPE=image/png:https://glcorchestra.org/wp-content/uploads/2019/04/Screen-Shot-2019-06-26-at-12.43.54-PM.png
END:VEVENT
BEGIN:VEVENT
DTSTART;TZID=America/Detroit:20190921T190000
DTEND;TZID=America/Detroit:20190921T210000
DTSTAMP:20260422T011434
CREATED:20190430T204734Z
LAST-MODIFIED:20190806T173521Z
UID:10000094-1569092400-1569099600@glcorchestra.org
SUMMARY:The Violet Viola Concerto
DESCRIPTION:Season opening concert presenting the World premiere of a newly commissioned work by composer\, David Lockington entitled\, The Violet Viola Concerto. This piece was written for the Great Lakes Chamber Orchestra and Music Director and violist\, Libor Ondras\, and was inspired by the birth of Lockington’s granddaughter\, Violet. ll Señor Bruschino Overture by Gioachino Rossini and Variaciones Concertantes by Alberto Ginastera will also be on the program. This performance will be at the Great Lakes Center for the Arts. Pre-Concert talk by Music Director Libor Ondras and composer\, David Lockington at a special time- 5:45 PM\n\n\n\nReserved Seating: $50\, $35\, $25\nAges 18 and under are FREE.\nVeterans call 231.487.0010 for special pricing.
URL:https://glcorchestra.org/concert/violet-concerto/
LOCATION:Great Lakes Center for the Arts\, 800 Bay Harbor Dr.\, Petoskey\, Michigan\, 49770
ATTACH;FMTTYPE=image/png:https://glcorchestra.org/wp-content/uploads/2019/04/Screen-Shot-2019-07-30-at-3.06.14-PM.png
END:VEVENT
BEGIN:VEVENT
DTSTART;TZID=America/Detroit:20190718T190000
DTEND;TZID=America/Detroit:20190718T210000
DTSTAMP:20260422T011434
CREATED:20190502T172315Z
LAST-MODIFIED:20190624T160510Z
UID:10000101-1563476400-1563483600@glcorchestra.org
SUMMARY:Celestial Summer with GLCO!
DESCRIPTION:Our summer concert series features pieces that are inspired by space exploration\, as well as by planets in the solar system. These selections provide adequate tempo and stylistic contrast\, and represent different historical periods. Selections include: G P. Telemann: Klinende Geographie\, P. Sarasate: Navarra op 33\, A. J. Kernis: Musica Celestis\, and Gustav Holst: The Planets. \nThis event takes place at Raven Hill Discovery Center\, 4737 Fuller Road\, East Jordan. There is no charge for this concert.
URL:https://glcorchestra.org/concert/celestial-summer-with-glco-3/
LOCATION:Raven Hill Discovery Center\, 4737 Fuller Road\, East Jordan\, MI\, 49727
ATTACH;FMTTYPE=image/png:https://glcorchestra.org/wp-content/uploads/2019/06/Screen-Shot-2019-06-12-at-12.30.12-PM.png
END:VEVENT
BEGIN:VEVENT
DTSTART;TZID=America/Detroit:20190714T140000
DTEND;TZID=America/Detroit:20190714T160000
DTSTAMP:20260422T011434
CREATED:20190502T162346Z
LAST-MODIFIED:20190624T160424Z
UID:10000100-1563112800-1563120000@glcorchestra.org
SUMMARY:Celestial Summer with GLCO!
DESCRIPTION:Our summer concert series features pieces that are inspired by space exploration\, as well as by planets in the solar system. These selections provide adequate tempo and stylistic contrast\, and represent different historical periods. Selections include: G P. Telemann: Klingende Geographie\, P. Sarasate: Navarra op 33\, A. J. Kernis: Musica Celestis\, and Gustav Holst: The Planets. \nThis event takes place at Mission Point Resort on Mackinac Island. There is no charge for this concert.
URL:https://glcorchestra.org/concert/celestial-summer-with-glco/
LOCATION:Mission Point Resort\, Mackinac Island\, One Lakeshore Drive\, Mackinac Island\, MI\, 49757
ATTACH;FMTTYPE=image/png:https://glcorchestra.org/wp-content/uploads/2019/06/Screen-Shot-2019-06-12-at-12.30.12-PM.png
END:VEVENT
BEGIN:VEVENT
DTSTART;TZID=America/Detroit:20190711T200000
DTEND;TZID=America/Detroit:20190711T220000
DTSTAMP:20260422T011434
CREATED:20190430T204048Z
LAST-MODIFIED:20190626T164222Z
UID:10000093-1562875200-1562882400@glcorchestra.org
SUMMARY:Midsummer Night's Dream
DESCRIPTION:A delightful classic. As a part of the Great Lake Center for the Arts’ summer concert series\, the Orchestra presents Mendelssohn’s Midsummer Night’s Dream Overture and Symphony No. 3 along with Beethoven’s Piano Concerto No. 4. Pre-Concert Talk by Music Director Libor Ondras at 7:00 PM \nReserved Seating: $50\, $35\, $25
URL:https://glcorchestra.org/concert/midsummer-nights-dream/
LOCATION:Great Lakes Center for the Arts\, 800 Bay Harbor Dr.\, Petoskey\, Michigan\, 49770
ATTACH;FMTTYPE=image/png:https://glcorchestra.org/wp-content/uploads/2019/04/Screen-Shot-2019-06-12-at-12.23.35-PM.png
END:VEVENT
BEGIN:VEVENT
DTSTART;TZID=America/Detroit:20190505T160000
DTEND;TZID=America/Detroit:20190505T180000
DTSTAMP:20260422T011434
CREATED:20181024T193404Z
LAST-MODIFIED:20181024T193404Z
UID:10000092-1557072000-1557079200@glcorchestra.org
SUMMARY:Woodwind Ensemble
DESCRIPTION:Sunday Recital Series: Woodwind Ensemble \nGenerous support for the Sunday Recital Series is provided by Carolyn Klender.
URL:https://glcorchestra.org/concert/woodwind-ensemble/
LOCATION:First Presbyterian Church\, Harbor Springs
ATTACH;FMTTYPE=image/jpeg:https://glcorchestra.org/wp-content/uploads/2018/10/concertimages3.jpg
END:VEVENT
BEGIN:VEVENT
DTSTART;TZID=America/Detroit:20190428T190000
DTEND;TZID=America/Detroit:20190428T210000
DTSTAMP:20260422T011434
CREATED:20181024T191150Z
LAST-MODIFIED:20210128T143303Z
UID:10000086-1556478000-1556485200@glcorchestra.org
SUMMARY:Violins of Hope – Music of Terezín
DESCRIPTION:Concert: Violins of Hope – Music of Terezín \nViolins of Hopefounder\, Amon Weinstein\, has spent decades restoring violins once played by Jewish musicians during the Holocaust. Experience the emotion of hearing a Violin of Hope performed by members of the Great Lakes Chamber Orchestra presenting works from P. Haas and G.Klein\, composers and musicians at Terezin\, in addition to selections from the Mozart Requiem with chorus\, Symphony for Strings by Shostakovich and the theme from Shindler’s List by John Williams. \nReserved Seating: $25\, $35\, and $50\nAges 18 and under are FREE \nPlease call the GLCO office to purchase handicapped seats\, 231-487-0010.
URL:https://glcorchestra.org/concert/violins-of-hope-music-of-terezin/
LOCATION:Great Lakes Center for the Arts\, 800 Bay Harbor Dr.\, Petoskey\, Michigan\, 49770
ATTACH;FMTTYPE=image/jpeg:https://glcorchestra.org/wp-content/uploads/2018/10/MissingConcert.jpg
END:VEVENT
BEGIN:VEVENT
DTSTART;TZID=America/Detroit:20190407T160000
DTEND;TZID=America/Detroit:20190407T180000
DTSTAMP:20260422T011434
CREATED:20181024T193303Z
LAST-MODIFIED:20181024T193303Z
UID:10000091-1554652800-1554660000@glcorchestra.org
SUMMARY:Double Reeds
DESCRIPTION:Sunday Recital Series: Double Reeds \nGenerous support for the Sunday Recital Series is provided by Carolyn Klender.
URL:https://glcorchestra.org/concert/double-reeds/
LOCATION:Emmanuel Episcopal Church\, Petoskey
ATTACH;FMTTYPE=image/jpeg:https://glcorchestra.org/wp-content/uploads/2018/10/concertimages3.jpg
END:VEVENT
BEGIN:VEVENT
DTSTART;TZID=America/Detroit:20190324T160000
DTEND;TZID=America/Detroit:20190324T180000
DTSTAMP:20260422T011434
CREATED:20181024T193208Z
LAST-MODIFIED:20190304T205006Z
UID:10000090-1553443200-1553450400@glcorchestra.org
SUMMARY:The Cummings String Quartet
DESCRIPTION:Cummings String Quartet will perform the String Quartet No. 2 in A minor\, Op. 13 by Felix Mendelssohn and the String Quartet in B Minor\, Op. 11 by Samuel Barber. \nThe Cummings String Quartet is a northern Michigan-based ensemble of professionals who perform with the Traverse Symphony Orchestra and the Great Lakes Chamber Orchestra.  Named after the benefactors of the Dorothy Gerber Strings Program\, the quartet also serves as teachers and artistic representatives of the Gerber program. \n 
URL:https://glcorchestra.org/concert/the-cummings-string-quartet/
LOCATION:First Presbyterian Church\, Boyne City
ATTACH;FMTTYPE=image/jpeg:https://glcorchestra.org/wp-content/uploads/2018/10/concertimages3.jpg
END:VEVENT
BEGIN:VEVENT
DTSTART;TZID=America/Detroit:20190224T160000
DTEND;TZID=America/Detroit:20190224T180000
DTSTAMP:20260422T011434
CREATED:20181024T193103Z
LAST-MODIFIED:20190224T144226Z
UID:10000089-1551024000-1551031200@glcorchestra.org
SUMMARY:Mozart Clarinet Quintet & Brass Ensemble
DESCRIPTION:*CANCELLED* Due to poor weather conditions\, this concert has been cancelled. \nThe Mozart Clarinet Quintet performs the Mozart Quintet for Clarinet and String Quartet\, in A Major\, K 581.Amy Glover\, clarinetist\, joins violinists\, Paul Sonner\, Kaylee Erlewein\, Ann Schoelles\, viola and cellist\, Crispin Campbell. The Great Lakes Chamber Orchestra Brass quintet will perform Paul Dukas’s Fanfare from La Peri\, Victor Ewald’s Quintet No. 1\, Lowell Shaw’s Pocket Full of Wry\, and Leonard Lebow’s Popular Suite.  Members of the Quintet include\,Par Jarve\, trumpet\, Carl Hawkins\, tuba\, Bev Isenbarger\, horn\, Vern Campbell\, trumpet\, and Ed Bahr trombone.
URL:https://glcorchestra.org/concert/mozart-clarinet-quintet-brass-ensemble/
LOCATION:First Presbyterian Church\, Harbor Springs
ATTACH;FMTTYPE=image/jpeg:https://glcorchestra.org/wp-content/uploads/2018/10/concertimages3.jpg
END:VEVENT
BEGIN:VEVENT
DTSTART;TZID=America/Detroit:20190113T160000
DTEND;TZID=America/Detroit:20190113T180000
DTSTAMP:20260422T011434
CREATED:20181024T192928Z
LAST-MODIFIED:20190103T174743Z
UID:10000088-1547395200-1547402400@glcorchestra.org
SUMMARY:Piano Duo
DESCRIPTION:Sunday Recital Series: Piano Duo \nFeaturing: Michelle Mitchum & Robin McCarty \nGenerous support for the Sunday Recital Series is provided by Carolyn Klender.
URL:https://glcorchestra.org/concert/piano-duo/
LOCATION:First Presbyterian Church\, Harbor Springs
ATTACH;FMTTYPE=image/jpeg:https://glcorchestra.org/wp-content/uploads/2018/10/concertimages3.jpg
END:VEVENT
BEGIN:VEVENT
DTSTART;TZID=America/Detroit:20181221T190000
DTEND;TZID=America/Detroit:20181221T210000
DTSTAMP:20260422T011434
CREATED:20181024T185734Z
LAST-MODIFIED:20181204T151823Z
UID:10000085-1545418800-1545426000@glcorchestra.org
SUMMARY:Handel’s Messiah
DESCRIPTION:Concert: Handel’s Messiah \nThe Great Lakes Chamber Orchestra and Chorus is proud to present our annual Messiah concert. For the first time in many years\, the performance includes Parts I\, II and III of this beloved work. Handel’s Messiah\, an oratorio\, is set in three sections\, the first concerns the Prophecy and the Nativity\, the second the Passion and Resurrection and the final section\, the Resurrection of all humankind. \nFeaturing: Laura Osgood Brown\, soprano\, Christine Amon\, mezzo soprano\, Richard Fracker\, tenor\, Jason Coffey\, baritone \nReserved Seating: $50\, $35\nGeneral Admission: $25\nAges 18 and under are FREE.
URL:https://glcorchestra.org/concert/handels-messiah-2/
LOCATION:Great Lakes Center for the Arts\, 800 Bay Harbor Dr.\, Petoskey\, Michigan\, 49770
ATTACH;FMTTYPE=image/jpeg:https://glcorchestra.org/wp-content/uploads/2018/10/GLCAMessiahSoldOut.jpg
END:VEVENT
BEGIN:VEVENT
DTSTART;TZID=America/Detroit:20181220T190000
DTEND;TZID=America/Detroit:20181220T210000
DTSTAMP:20260422T011434
CREATED:20181024T184925Z
LAST-MODIFIED:20181126T145801Z
UID:10000084-1545332400-1545339600@glcorchestra.org
SUMMARY:Handel’s Messiah
DESCRIPTION:Concert: Handel’s Messiah \nThe Great Lakes Chamber Orchestra and Chorus is proud to present our annual Messiah concert. For the first time in many years\, the performance includes Parts I\, II and III of this beloved work. Handel’s Messiah\, an oratorio\, is set in three sections\, the first concerns the Prophecy and the Nativity\, the second the Passion and Resurrection and the final section\, the Resurrection of all humankind. \nFeaturing: Laura Osgood Brown\, soprano\, Christine Amon\, mezzo soprano\, Richard Fracker\, tenor\, Jason Coffey\, baritone \nReserved Seating: $50\, $35\nGeneral Admission: $25\nAges 18 and under are FREE.
URL:https://glcorchestra.org/concert/handels-messiah/
LOCATION:St. Francis Xavier Church\, Petoskey
ATTACH;FMTTYPE=image/jpeg:https://glcorchestra.org/wp-content/uploads/2018/10/concertimages2.jpg
END:VEVENT
BEGIN:VEVENT
DTSTART;TZID=America/Detroit:20181104T160000
DTEND;TZID=America/Detroit:20181104T180000
DTSTAMP:20260422T011434
CREATED:20181024T192338Z
LAST-MODIFIED:20181030T190227Z
UID:10000087-1541347200-1541354400@glcorchestra.org
SUMMARY:L'Histoire du Soldat
DESCRIPTION:Sunday Recital Series: L’Histoire du Soldat \nBased on the Russian folktale The Runaway Soldier and the Devil\, this piece composed by Igor Stravinsky brings to life the parable of the soldier who trades his fiddle to the devil in return for riches. A performance not to be missed! \nGenerous support for the Sunday Recital Series is provided by Carolyn Klender. \n 
URL:https://glcorchestra.org/concert/lhistoire-du-soldat/
LOCATION:First Congregational Church\, Charlevoix
ATTACH;FMTTYPE=image/jpeg:https://glcorchestra.org/wp-content/uploads/2018/10/concertimages3.jpg
END:VEVENT
BEGIN:VEVENT
DTSTART;TZID=America/Detroit:20181021T160000
DTEND;TZID=America/Detroit:20181021T180000
DTSTAMP:20260422T011434
CREATED:20180911T183140Z
LAST-MODIFIED:20181024T183812Z
UID:10000083-1540137600-1540144800@glcorchestra.org
SUMMARY:Young People's Concert
DESCRIPTION:Concert: Young People’s Concert \nBritten’s Young Person’s Guide to the Orchestra and music by John Williams including selections from Star Wars\, Indiana Jones\, Jurassic Park and ET. \nSpecial appearance by: Local FIRST Robotics Teams \nFeaturing: Thomas Agee\, Trumpet\, Winner of the 2018 Charles F. Davis Young Artist Competition \nAges 18 and under are FREE.
URL:https://glcorchestra.org/concert/young-peoples-concert/
LOCATION:Petoskey Middle School
ATTACH;FMTTYPE=image/jpeg:https://glcorchestra.org/wp-content/uploads/2018/09/concertimages.jpg
END:VEVENT
BEGIN:VEVENT
DTSTART;TZID=America/Detroit:20180908T150000
DTEND;TZID=America/Detroit:20180908T170000
DTSTAMP:20260422T011434
CREATED:20180911T181840Z
LAST-MODIFIED:20181024T184015Z
UID:10000082-1536418800-1536426000@glcorchestra.org
SUMMARY:Great Lakes. Great Music.
DESCRIPTION:Concert: An Evening of the World’s Greatest Music\nSmetana\, Bartered Bride Overture\nBernstein\, Choruses from Candide\nCopland\, El Salon Mexico\nBrahms\, Concerto for Violin\, Cello and Orchestra Op. 102.\nFeaturing: Dylana Jenson\, violin\, and David Lockington\, cello
URL:https://glcorchestra.org/concert/great-lakes-great-music/
LOCATION:Great Lakes Center for the Arts\, 800 Bay Harbor Dr.\, Petoskey\, Michigan\, 49770
ATTACH;FMTTYPE=image/jpeg:https://glcorchestra.org/wp-content/uploads/2018/09/trio1-1.jpg
END:VEVENT
END:VCALENDAR